BEGIN:VCALENDAR
VERSION:2.0
PRODID:-//wp-events-plugin.com//7.2.3.1//EN
TZID:Europe/Berlin
X-WR-TIMEZONE:Europe/Berlin
BEGIN:VEVENT
UID:305@cucm.de
DTSTART;TZID=Europe/Berlin:20250925T100000
DTEND;TZID=Europe/Berlin:20250925T120000
DTSTAMP:20251005T092624Z
URL:https://www.cucm.de/termine/fuer-einsteiger-2025-09-25/
SUMMARY:Für Einsteiger
DESCRIPTION:
CATEGORIES:Basis Windows+Office
END:VEVENT
BEGIN:VTIMEZONE
TZID:Europe/Berlin
X-LIC-LOCATION:Europe/Berlin
BEGIN:DAYLIGHT
DTSTART:20250330T030000
TZOFFSETFROM:+0100
TZOFFSETTO:+0200
TZNAME:CEST
END:DAYLIGHT
END:VTIMEZONE
END:VCALENDAR